BEGIN:VCALENDAR
VERSION:2.0
PRODID:-//G4 Firearms, LLC - ECPv6.15.20//NONSGML v1.0//EN
CALSCALE:GREGORIAN
METHOD:PUBLISH
X-ORIGINAL-URL:https://g4firearms.com
X-WR-CALDESC:Events for G4 Firearms, LLC
REFRESH-INTERVAL;VALUE=DURATION:PT1H
X-Robots-Tag:noindex
X-PUBLISHED-TTL:PT1H
BEGIN:VTIMEZONE
TZID:UTC
BEGIN:STANDARD
TZOFFSETFROM:+0000
TZOFFSETTO:+0000
TZNAME:UTC
DTSTART:20250101T000000
END:STANDARD
END:VTIMEZONE
BEGIN:VEVENT
DTSTART;TZID=UTC:20260513T180000
DTEND;TZID=UTC:20260513T190000
DTSTAMP:20260419T135001
CREATED:20251213T030453Z
LAST-MODIFIED:20251215T011517Z
UID:8659-1778695200-1778698800@g4firearms.com
SUMMARY:Handgun Cleaning Class
DESCRIPTION:An informative lesson that will be fun for all participants! All cleaning supplies will be provided along with soft drinks and water. It’s a great way to meet people and learn how to properly clean your firearm. A great class for someone that has never learned to clean their gun properly. \n\nAll classes are no more than 15 students.\nAll week day classes will start promptly at 6:00pm.\nNo refunds without 24-hour cancellation.\n\nCost: $35.00 \nBook your spot for the: Handgun Cleaning Class.
URL:https://g4firearms.com/training-schedule/handgun-cleaning-class-3/
ATTACH;FMTTYPE=image/jpeg:https://g4firearms.com/wp-content/uploads/2022/07/gun-cleaning-course.jpg
ORGANIZER;CN="G4 Firearms%2C LLC":MAILTO:info@g4firearms.com
END:VEVENT
END:VCALENDAR 