BEGIN:VCALENDAR
VERSION:2.0
PRODID:-//G4 Firearms, LLC - ECPv6.15.20//NONSGML v1.0//EN
CALSCALE:GREGORIAN
METHOD:PUBLISH
X-WR-CALNAME:G4 Firearms, LLC
X-ORIGINAL-URL:https://g4firearms.com
X-WR-CALDESC:Events for G4 Firearms, LLC
REFRESH-INTERVAL;VALUE=DURATION:PT1H
X-Robots-Tag:noindex
X-PUBLISHED-TTL:PT1H
BEGIN:VTIMEZONE
TZID:UTC
BEGIN:STANDARD
TZOFFSETFROM:+0000
TZOFFSETTO:+0000
TZNAME:UTC
DTSTART:20250101T000000
END:STANDARD
END:VTIMEZONE
BEGIN:VEVENT
DTSTART;TZID=UTC:20260506T180000
DTEND;TZID=UTC:20260506T203000
DTSTAMP:20260423T100419
CREATED:20251213T034200Z
LAST-MODIFIED:20260420T171342Z
UID:8698-1778090400-1778099400@g4firearms.com
SUMMARY:Handgun Safety Course
DESCRIPTION:This class will help you understand the universal firearm safety rules; teach you how to properly clear both revolvers and semi-automatic handguns; explain the actions and functions of single-action\, double-action\, and semi-automatic firearms; and guide you in selecting and fitting a handgun that meets your needs. You will also learn proper grip and stance\, safe storage practices\, and much more. \n\n\n\n\n\n\nAll classes are no more than 15 students.\nAll classes will start promptly at 6:00pm and end at 8:30pm.\nNo refunds without 24-hour cancellation.\n\n\n\nBook the course now: Handgun Safety Course. \n  \nAre you a G4 Firearms Club Member? If so\, sign-in HERE to enjoy an additional discount!
URL:https://g4firearms.com/training-schedule/handgun-safety-course-5/
LOCATION:G4 Firearms & Training Center\, 2490 W 3rd St\, Santa Rosa\, CA\, 95401\, United States
ATTACH;FMTTYPE=image/jpeg:https://g4firearms.com/wp-content/uploads/2017/11/handgun-safety-course-3b.jpg
ORGANIZER;CN="G4 Firearms%2C LLC":MAILTO:info@g4firearms.com
END:VEVENT
BEGIN:VEVENT
DTSTART;TZID=UTC:20260507T180000
DTEND;TZID=UTC:20260507T203000
DTSTAMP:20260423T100419
CREATED:20251213T034247Z
LAST-MODIFIED:20260420T172026Z
UID:8700-1778176800-1778185800@g4firearms.com
SUMMARY:Women's Handgun Safety Course
DESCRIPTION:This class is the same as the Handgun Safety class\, just designed for women\, putting them in a different setting. \n\nAll classes are no more than 15 students.\nAll week day classes will start promptly at 6:00pm and end at 8:30pm.\nNo refunds without 24-hour cancellation.\n\nSign up now for Women’s Handgun Safety Course \nAre you a G4 Firearms Club Member? If so\, sign-in HERE to enjoy an additional discount!
URL:https://g4firearms.com/training-schedule/womens-handgun-safety-course-6/
LOCATION:G4 Firearms & Training Center\, 2490 W 3rd St\, Santa Rosa\, CA\, 95401\, United States
ATTACH;FMTTYPE=image/jpeg:https://g4firearms.com/wp-content/uploads/2022/07/womens-only-handgun-class-11.jpg
ORGANIZER;CN="G4 Firearms%2C LLC":MAILTO:info@g4firearms.com
END:VEVENT
END:VCALENDAR 